BEGIN:VCALENDAR
VERSION:2.0
PRODID:-//VdAH - ECPv6.15.20//NONSGML v1.0//EN
CALSCALE:GREGORIAN
METHOD:PUBLISH
X-ORIGINAL-URL:https://vdah.fsmuw.rwth-aachen.de
X-WR-CALDESC:Veranstaltungen für VdAH
REFRESH-INTERVAL;VALUE=DURATION:PT1H
X-Robots-Tag:noindex
X-PUBLISHED-TTL:PT1H
BEGIN:VTIMEZONE
TZID:Europe/Berlin
BEGIN:DAYLIGHT
TZOFFSETFROM:+0100
TZOFFSETTO:+0200
TZNAME:CEST
DTSTART:20230326T010000
END:DAYLIGHT
BEGIN:STANDARD
TZOFFSETFROM:+0200
TZOFFSETTO:+0100
TZNAME:CET
DTSTART:20231029T010000
END:STANDARD
BEGIN:DAYLIGHT
TZOFFSETFROM:+0100
TZOFFSETTO:+0200
TZNAME:CEST
DTSTART:20240331T010000
END:DAYLIGHT
BEGIN:STANDARD
TZOFFSETFROM:+0200
TZOFFSETTO:+0100
TZNAME:CET
DTSTART:20241027T010000
END:STANDARD
BEGIN:DAYLIGHT
TZOFFSETFROM:+0100
TZOFFSETTO:+0200
TZNAME:CEST
DTSTART:20250330T010000
END:DAYLIGHT
BEGIN:STANDARD
TZOFFSETFROM:+0200
TZOFFSETTO:+0100
TZNAME:CET
DTSTART:20251026T010000
END:STANDARD
END:VTIMEZONE
BEGIN:VEVENT
DTSTART;TZID=Europe/Berlin:20241023T080000
DTEND;TZID=Europe/Berlin:20241024T170000
DTSTAMP:20260426T062230
CREATED:20240504T071328Z
LAST-MODIFIED:20240513T065747Z
UID:2024-1729670400-1729789200@vdah.fsmuw.rwth-aachen.de
SUMMARY:Exkursion zu BSE/BSW und Dillinger Hütte
DESCRIPTION:Am 23. Oktober steht eine aufregende Exkursion auf dem Programm\, bei der wir die Werke von BSE/BSW und der Dillinger Hütte besuchen werden. Der Tag beginnt mit Ihrer Ankunft gegen Nachmittag bei BSE/BSW\, wo Sie herzlich empfangen werden. Dort erwartet Sie eine informative Führung durch das Werk\, bei der Sie die Gelegenheit haben werden\, die Produktionsabläufe und Technologien kennenzulernen. \nIm Anschluss gibt es ein Abendessen und wir übernachten in einem Hotel vor Ort. Es wird dabei Vernetzungsmöglichkeiten geben. \nAm nächsten Morgen brechen wir gegen 9 oder 10 Uhr Richtung Dillinger Hütte auf. Dort erwartet uns eine weitere spannende Führung durch das Werk\, bevor wir uns auf den Rückweg nach Aachen machen. \nWir freuen uns darauf\, mit Ihnen gemeinsam diese lehrreiche Exkursion zu erleben und viele interessante Eindrücke zu sammeln.
URL:https://vdah.fsmuw.rwth-aachen.de/event/exkursion-zu-bse-bsw-und-dillinger-huette/
LOCATION:NRW
CATEGORIES:Exkursion
END:VEVENT
BEGIN:VEVENT
DTSTART;TZID=Europe/Berlin:20241017T170000
DTEND;TZID=Europe/Berlin:20241017T200000
DTSTAMP:20260426T062230
CREATED:20240513T055307Z
LAST-MODIFIED:20240513T055418Z
UID:2028-1729184400-1729195200@vdah.fsmuw.rwth-aachen.de
SUMMARY:Workshop mit Chartwell Consulting
DESCRIPTION:Wir freuen uns\, unsere Studierenden zu einem interaktiven Workshop mit Chartwell Consulting einzuladen. Dies ist eine hervorragende Gelegenheit\, den Alltag eines technischen Unternehmensberaters kennenzulernen und einen typischen Fall durchzuspielen. Chartwell Consulting kommt zu uns nach Aachen\, und Sie haben die Chance\, in die Rolle eines Beraters zu schlüpfen. \nVeranstaltungsdetails:\n\nFallstudien-Simulation: Gemeinsam mit den Consultants von Chartwell werden wir in Teams einen realistischen Fall bearbeiten. Die Consultants agieren als unsere Auftraggeber\, und wir stellen uns der Herausforderung\, ihre Probleme zu lösen.\nNetworking mit Snacks und Getränken: Während des Workshops werden Snacks und Getränke zur Verfügung gestellt\, um die Diskussionen und das Teamwork zu fördern.\nFragestunde: Nach dem Durchspielen des Falls haben die Teilnehmenden die Möglichkeit\, Fragen zu stellen und tiefere Einblicke in die Arbeit eines Consultants zu gewinnen.\n\nFür diejenigen\, die beim letzten Mal dabei waren: Dieses Mal haben wir einen neuen und spannenden Fall für euch vorbereitet!
URL:https://vdah.fsmuw.rwth-aachen.de/event/treffen-mit-chartwell-consulting/
LOCATION:R223\, Intzestraße 1\, Aachen\, NRW\, 52068\, Deutschland
CATEGORIES:Workshop
ATTACH;FMTTYPE=image/png:https://vdah.fsmuw.rwth-aachen.de/wp-content/uploads/2023/10/2017-Chartwell-logo-transparent-background-v2-4.png
END:VEVENT
BEGIN:VEVENT
DTSTART;TZID=Europe/Berlin:20240705T080000
DTEND;TZID=Europe/Berlin:20240705T170000
DTSTAMP:20260426T062230
CREATED:20240504T063819Z
LAST-MODIFIED:20240512T180142Z
UID:2015-1720166400-1720198800@vdah.fsmuw.rwth-aachen.de
SUMMARY:Exkursion zu Thyssenkrupp
DESCRIPTION:Am 05.07. findet eine Exkursion zu Thyssenkrupp statt. Wir schauen uns das Werk an und werden anschließend noch ein wenig netzwerken. Weitere Informationen wie Treffpunkt\, etc. bekommst du nach der Registrierung per E-Mail zugeschickt. Die Registrierung ist nur bis zum 15.05.2024 und nur maximal für 12 Leute möglich. \n  \nAnmeldung zur Exkursion:\n				\n											This event is full
URL:https://vdah.fsmuw.rwth-aachen.de/event/exkursion-zu-thyssenkrupp/
LOCATION:NRW
CATEGORIES:Exkursion
END:VEVENT
BEGIN:VEVENT
DTSTART;TZID=Europe/Berlin:20240426T160000
DTEND;TZID=Europe/Berlin:20240426T190000
DTSTAMP:20260426T062230
CREATED:20231107T075804Z
LAST-MODIFIED:20231107T075804Z
UID:1988-1714147200-1714158000@vdah.fsmuw.rwth-aachen.de
SUMMARY:Praxisworkshop mit Chartwell Consulting
DESCRIPTION:Wir freuen uns\, unsere Studierenden zu einem interaktiven Workshop mit Chartwell Consulting einzuladen. Dies ist eine hervorragende Gelegenheit\, den Alltag eines technischen Unternehmensberaters kennenzulernen und einen typischen Fall durchzuspielen. Chartwell Consulting kommt zu uns nach Aachen\, und Sie haben die Chance\, in die Rolle eines Beraters zu schlüpfen. \nVeranstaltungsdetails:\n\nFallstudien-Simulation: Gemeinsam mit den Consultants von Chartwell werden wir in Teams einen realistischen Fall bearbeiten. Die Consultants agieren als unsere Auftraggeber\, und wir stellen uns der Herausforderung\, ihre Probleme zu lösen.\nNetworking mit Snacks und Getränken: Während des Workshops werden Snacks und Getränke zur Verfügung gestellt\, um die Diskussionen und das Teamwork zu fördern.\nFragestunde: Nach dem Durchspielen des Falls haben die Teilnehmenden die Möglichkeit\, Fragen zu stellen und tiefere Einblicke in die Arbeit eines Consultants zu gewinnen.\n\nFür diejenigen\, die beim letzten Mal dabei waren: Dieses Mal haben wir einen neuen und spannenden Fall für euch vorbereitet!
URL:https://vdah.fsmuw.rwth-aachen.de/event/praxisworkshop-mit-chartwell-consulting/
LOCATION:R223\, Intzestraße 1\, Aachen\, NRW\, 52068\, Deutschland
CATEGORIES:Workshop
ATTACH;FMTTYPE=image/png:https://vdah.fsmuw.rwth-aachen.de/wp-content/uploads/2023/10/2017-Chartwell-logo-transparent-background-v2-4.png
END:VEVENT
BEGIN:VEVENT
DTSTART;TZID=Europe/Berlin:20240116T080000
DTEND;TZID=Europe/Berlin:20240116T170000
DTSTAMP:20260426T062230
CREATED:20231107T074438Z
LAST-MODIFIED:20231218T130127Z
UID:1984-1705392000-1705424400@vdah.fsmuw.rwth-aachen.de
SUMMARY:Exkursion zur Schunk Kohlenstofftechnik GmbH
DESCRIPTION:Wir laden Sie herzlich zu unserer Exkursion zur Schunk Kohlenstofftechnik GmbH ein\, die im Rahmen des universitären Programms organisiert wird. Diese Exkursion bietet den Teilnehmenden die Möglichkeit\, einen tieferen Einblick in die Praxis der Kohlenstofftechnologie und die innovativen Projekte im Bereich der Composites zu erhalten. \nAgenda:\n\n10:45 Uhr: Beginn der Werkführung\, während der wir die Gelegenheit haben\, die hochmoderne Fertigungstechnologie von Schunk zu erleben und mehr über die verschiedenen Anwendungen von Kohlenstoff und Composites zu erfahren.\n12:15 Uhr: Gemeinsames Mittagessen und Gelegenheit zum Netzwerken.\n13:00 Uhr: Vortrag zum Thema „Composites: Aktuelle Projekte und der Arbeitsalltag eines Entwicklungsingenieurs“. Hier gibt es auch Raum für einen interaktiven Austausch\, bei dem Fragen gestellt und Diskussionen geführt werden können.\n\nAnmeldung:\nIhr könnt euch über den Link schunk-anmeldung anmelden.
URL:https://vdah.fsmuw.rwth-aachen.de/event/exkursion-zur-schunk-kohlenstofftechnik-gmbh/
LOCATION:NRW
CATEGORIES:Workshop
ATTACH;FMTTYPE=image/png:https://vdah.fsmuw.rwth-aachen.de/wp-content/uploads/2023/10/proxy-image.png
END:VEVENT
END:VCALENDAR